BEGIN:VCALENDAR
VERSION:2.0
PRODID:-//Bullitt County Public Library - ECPv5.16.4//NONSGML v1.0//EN
CALSCALE:GREGORIAN
METHOD:PUBLISH
X-WR-CALNAME:Bullitt County Public Library
X-ORIGINAL-URL:https://bcplib.org
X-WR-CALDESC:Events for Bullitt County Public Library
BEGIN:VTIMEZONE
TZID:America/Kentucky/Louisville
BEGIN:DAYLIGHT
TZOFFSETFROM:-0500
TZOFFSETTO:-0400
TZNAME:EDT
DTSTART:20180311T070000
END:DAYLIGHT
BEGIN:STANDARD
TZOFFSETFROM:-0400
TZOFFSETTO:-0500
TZNAME:EST
DTSTART:20181104T060000
END:STANDARD
END:VTIMEZONE
BEGIN:VEVENT
DTSTART;TZID=America/Kentucky/Louisville:20181126T180000
DTEND;TZID=America/Kentucky/Louisville:20181126T190000
DTSTAMP:20260421T185454
CREATED:20180814T210912Z
LAST-MODIFIED:20181004T151609Z
UID:35306-1543255200-1543258800@bcplib.org
SUMMARY:How to Brew a Proper Cup of Coffee
DESCRIPTION:You have been brewing coffee wrong your whole life.   \nYes\, you read that right. Join Danny Marin from Cedar Grove Coffee House and learn to brew a cup of coffee that will blow your mind! Plus\, we’ll discuss specialty coffees\, the history of coffee\, and lots of fun facts—like what really makes gas station coffee taste so bad. We might just have some samples too! ☕ \nFor ages 16 and up.\nRegistration is required for a select number of reserved seats. Additional seating will be available on a first-come\, first-served basis. Questions? E-mail mike@bcplib.org.
URL:https://bcplib.org/event/coffee-rm2/
LOCATION:Ridgway Memorial Library\, 127 N. Walnut Street\, Shepherdsville\, KY\, 40165\, United States
CATEGORIES:Adults,Teens
ORGANIZER;CN="Mike":MAILTO:mike@bcplib.org
GEO:38.001133520394;-85.706045160467
X-APPLE-STRUCTURED-LOCATION;VALUE=URI;X-ADDRESS=Ridgway Memorial Library 127 N. Walnut Street Shepherdsville KY 40165 United States;X-APPLE-RADIUS=500;X-TITLE=127 N. Walnut Street:geo:-85.706045160467,38.001133520394
END:VEVENT
END:VCALENDAR