BEGIN:VCALENDAR
VERSION:2.0
PRODID:-//Bullitt County Public Library - ECPv5.16.4//NONSGML v1.0//EN
CALSCALE:GREGORIAN
METHOD:PUBLISH
X-WR-CALNAME:Bullitt County Public Library
X-ORIGINAL-URL:https://bcplib.org
X-WR-CALDESC:Events for Bullitt County Public Library
BEGIN:VTIMEZONE
TZID:America/Kentucky/Louisville
BEGIN:DAYLIGHT
TZOFFSETFROM:-0500
TZOFFSETTO:-0400
TZNAME:EDT
DTSTART:20210314T070000
END:DAYLIGHT
BEGIN:STANDARD
TZOFFSETFROM:-0400
TZOFFSETTO:-0500
TZNAME:EST
DTSTART:20211107T060000
END:STANDARD
END:VTIMEZONE
BEGIN:VEVENT
DTSTART;TZID=America/Kentucky/Louisville:20210925T130000
DTEND;TZID=America/Kentucky/Louisville:20210925T160000
DTSTAMP:20260423T012352
CREATED:20210909T194610Z
LAST-MODIFIED:20210909T194610Z
UID:96934-1632574800-1632585600@bcplib.org
SUMMARY:Club Ghibli
DESCRIPTION:Rise to meet your fate… \nJoin us for a special night of family entertainment with Studio Ghibli. Grab a snack and enjoy a showing of a well-loved Studio Ghibli film. Plus\, keep the Ghibli fun going with a fun\, coordinated craft during each viewing! \nFILM & CRAFT SCHEDULE\n \nSeptember: Spirited Away\nUsing pom poms and googly eyes\, make your very own Soot Sprites. \nOctober: Kiki’s Delivery Service\nDecorate a witch’s hat using ribbons\,  flowers\,  fabric paint\, and more. \nNovember: Howl’s Moving Castle\nCreate and take home a no-sew Calcifer plushie made with felt and stuffing. \nPsst… Enjoy pizza\, popcorn\, and drinks while supplies last! \nFor all ages. Just drop in!\nSeating and supplies will be available on a first-come\, first-served basis. Questions? E-mail Stephanie at nil@bcplib.org. \n\nClub Ghibli  Schedule\n3rd Saturday of the month @Lebanon Junction & Mt. Washington (begins in October!)\n4th Saturday of the month @Nichols
URL:https://bcplib.org/event/club-ghibli/
LOCATION:Nichols Branch\, 10729 Highway 44 West\, West Point\, KY\, 40177\, United States
CATEGORIES:Adults,Teens,Tweens,Kids,Family
ORGANIZER;CN="Stephanie%20S.":MAILTO:nil@bcplib.org
GEO:38.0142396;-85.8852196
X-APPLE-STRUCTURED-LOCATION;VALUE=URI;X-ADDRESS=Nichols Branch 10729 Highway 44 West West Point KY 40177 United States;X-APPLE-RADIUS=500;X-TITLE=10729 Highway 44 West:geo:-85.8852196,38.0142396
END:VEVENT
END:VCALENDAR