BEGIN:VCALENDAR
VERSION:2.0
PRODID:-//Bullitt County Public Library - ECPv5.16.4//NONSGML v1.0//EN
CALSCALE:GREGORIAN
METHOD:PUBLISH
X-WR-CALNAME:Bullitt County Public Library
X-ORIGINAL-URL:https://bcplib.org
X-WR-CALDESC:Events for Bullitt County Public Library
BEGIN:VTIMEZONE
TZID:America/Kentucky/Louisville
BEGIN:DAYLIGHT
TZOFFSETFROM:-0500
TZOFFSETTO:-0400
TZNAME:EDT
DTSTART:20260308T070000
END:DAYLIGHT
BEGIN:STANDARD
TZOFFSETFROM:-0400
TZOFFSETTO:-0500
TZNAME:EST
DTSTART:20261101T060000
END:STANDARD
END:VTIMEZONE
BEGIN:VEVENT
DTSTART;VALUE=DATE:20261231
DTEND;VALUE=DATE:20270101
DTSTAMP:20260421T132218
CREATED:20181213T183058Z
LAST-MODIFIED:20181213T183058Z
UID:108972-1798675200-1798761599@bcplib.org
SUMMARY:CLOSED for New Year's Eve
DESCRIPTION:All locations are closed in celebration of the new year. Doors will reopen at 9:00 AM on January 2nd. Best wishes for a safe and happy New Year!
URL:https://bcplib.org/event/closed-for-new-years-eve/2026-12-31/
END:VEVENT
END:VCALENDAR