BEGIN:VCALENDAR
VERSION:2.0
PRODID:-//Bullitt County Public Library - ECPv5.16.4//NONSGML v1.0//EN
CALSCALE:GREGORIAN
METHOD:PUBLISH
X-WR-CALNAME:Bullitt County Public Library
X-ORIGINAL-URL:https://bcplib.org
X-WR-CALDESC:Events for Bullitt County Public Library
BEGIN:VTIMEZONE
TZID:America/Kentucky/Louisville
BEGIN:DAYLIGHT
TZOFFSETFROM:-0500
TZOFFSETTO:-0400
TZNAME:EDT
DTSTART:20190310T070000
END:DAYLIGHT
BEGIN:STANDARD
TZOFFSETFROM:-0400
TZOFFSETTO:-0500
TZNAME:EST
DTSTART:20191103T060000
END:STANDARD
END:VTIMEZONE
BEGIN:VEVENT
DTSTART;VALUE=DATE:20190121
DTEND;VALUE=DATE:20190122
DTSTAMP:20260421T151924
CREATED:20181217T220459Z
LAST-MODIFIED:20210108T211756Z
UID:43630-1548028800-1548115199@bcplib.org
SUMMARY:CLOSED for Martin Luther King\, Jr. Day
DESCRIPTION:All BCPL locations are closed for the holiday. Services will resume at 9:00 AM Tuesday morning.
URL:https://bcplib.org/event/closed-for-martin-luther-king-jr-day/2019-01-21/
END:VEVENT
END:VCALENDAR