BEGIN:VCALENDAR
VERSION:2.0
PRODID:-//Bullitt County Public Library - ECPv5.16.4//NONSGML v1.0//EN
CALSCALE:GREGORIAN
METHOD:PUBLISH
X-WR-CALNAME:Bullitt County Public Library
X-ORIGINAL-URL:https://bcplib.org
X-WR-CALDESC:Events for Bullitt County Public Library
BEGIN:VTIMEZONE
TZID:America/Kentucky/Louisville
BEGIN:DAYLIGHT
TZOFFSETFROM:-0500
TZOFFSETTO:-0400
TZNAME:EDT
DTSTART:20220313T070000
END:DAYLIGHT
BEGIN:STANDARD
TZOFFSETFROM:-0400
TZOFFSETTO:-0500
TZNAME:EST
DTSTART:20221106T060000
END:STANDARD
END:VTIMEZONE
BEGIN:VEVENT
DTSTART;TZID=America/Kentucky/Louisville:20220417T130000
DTEND;TZID=America/Kentucky/Louisville:20220417T170000
DTSTAMP:20260422T014020
CREATED:20220405T160347Z
LAST-MODIFIED:20220405T160545Z
UID:101470-1650200400-1650214800@bcplib.org
SUMMARY:CLOSED for Easter
DESCRIPTION:Sunday hours at Ridgway Memorial are canceled for the holiday. We wish you a fun and egg-citing day!
URL:https://bcplib.org/event/closed-for-easter/
END:VEVENT
END:VCALENDAR