BEGIN:VCALENDAR
VERSION:2.0
PRODID:-//Bullitt County Public Library - ECPv5.16.4//NONSGML v1.0//EN
CALSCALE:GREGORIAN
METHOD:PUBLISH
X-WR-CALNAME:Bullitt County Public Library
X-ORIGINAL-URL:https://bcplib.org
X-WR-CALDESC:Events for Bullitt County Public Library
BEGIN:VTIMEZONE
TZID:America/Kentucky/Louisville
BEGIN:DAYLIGHT
TZOFFSETFROM:-0500
TZOFFSETTO:-0400
TZNAME:EDT
DTSTART:20210314T070000
END:DAYLIGHT
BEGIN:STANDARD
TZOFFSETFROM:-0400
TZOFFSETTO:-0500
TZNAME:EST
DTSTART:20211107T060000
END:STANDARD
END:VTIMEZONE
BEGIN:VEVENT
DTSTART;TZID=America/Kentucky/Louisville:20210503T163000
DTEND;TZID=America/Kentucky/Louisville:20210503T173000
DTSTAMP:20260423T091221
CREATED:20210419T185155Z
LAST-MODIFIED:20210419T185814Z
UID:93291-1620059400-1620063000@bcplib.org
SUMMARY:Cicadas
DESCRIPTION:The cicadas are coming! \nYou’re probably familiar with the distinctive rattling and buzzing sounds they make\, and you might have found an exoskeleton in your yard. But there’s more to know about the local cicada broods that will be emerging this spring season and into the early summer. \nKiddos can connect with Paul Adkins of the 4-H Youth Development program to learn about these fascinating creatures and enjoy activities like nature drawing and watercolors. Meanwhile\, teens and adults can join Horticulture County Extension Agent Lorilee Kunze to further explore cicada lifecycles\, their songs\, and how to prevent damage to young trees and shrubs. \nIndividually wrapped refreshments will be provided. \nFor all ages. Just drop in!\nJoin the fun anytime during scheduled event hours. Questions? Contact Stephanie at nil@bcplib.org.
URL:https://bcplib.org/event/cicadas/
LOCATION:Nichols Branch\, 10729 Highway 44 West\, West Point\, KY\, 40177\, United States
CATEGORIES:Adults,Teens,Tweens,Kids,Family
ORGANIZER;CN="Stephanie%20S.":MAILTO:nil@bcplib.org
GEO:38.0142396;-85.8852196
X-APPLE-STRUCTURED-LOCATION;VALUE=URI;X-ADDRESS=Nichols Branch 10729 Highway 44 West West Point KY 40177 United States;X-APPLE-RADIUS=500;X-TITLE=10729 Highway 44 West:geo:-85.8852196,38.0142396
END:VEVENT
END:VCALENDAR