BEGIN:VCALENDAR
VERSION:2.0
PRODID:-//Bullitt County Public Library - ECPv5.16.4//NONSGML v1.0//EN
CALSCALE:GREGORIAN
METHOD:PUBLISH
X-WR-CALNAME:Bullitt County Public Library
X-ORIGINAL-URL:https://bcplib.org
X-WR-CALDESC:Events for Bullitt County Public Library
BEGIN:VTIMEZONE
TZID:America/Kentucky/Louisville
BEGIN:DAYLIGHT
TZOFFSETFROM:-0500
TZOFFSETTO:-0400
TZNAME:EDT
DTSTART:20210314T070000
END:DAYLIGHT
BEGIN:STANDARD
TZOFFSETFROM:-0400
TZOFFSETTO:-0500
TZNAME:EST
DTSTART:20211107T060000
END:STANDARD
END:VTIMEZONE
BEGIN:VEVENT
DTSTART;TZID=America/Kentucky/Louisville:20211203T140000
DTEND;TZID=America/Kentucky/Louisville:20211203T150000
DTSTAMP:20260422T161337
CREATED:20211027T172727Z
LAST-MODIFIED:20211027T172755Z
UID:97778-1638540000-1638543600@bcplib.org
SUMMARY:Christmas with Mickey
DESCRIPTION:Have a very Mickey Christmas… \nJoin us for a festive afternoon of fun with Mickey! Enjoy a showing of the beloved classic Mickey’s Christmas Carol\, then paint a wooden ornament to hang on the Christmas tree for years to come. \nPsst… Snacks will be provided during the movie. \nFor children of all ages. Just drop in!\nSpace and materials will be available on a first-come\, first-served basis. Questions or comments? Call Angel at 543-7675 ext. 2555 or e-mail angel@bcplib.org.
URL:https://bcplib.org/event/christmas-with-mickey/
LOCATION:Mt. Washington Branch\, 214 N. Bardstown Road\, Mt. Washington\, KY\, 40047\, United States
CATEGORIES:Tweens,Kids,Family
ORGANIZER;CN="Angel":MAILTO:angel@bcplib.org
GEO:38.0492119;-85.5430434
X-APPLE-STRUCTURED-LOCATION;VALUE=URI;X-ADDRESS=Mt. Washington Branch 214 N. Bardstown Road Mt. Washington KY 40047 United States;X-APPLE-RADIUS=500;X-TITLE=214 N. Bardstown Road:geo:-85.5430434,38.0492119
END:VEVENT
END:VCALENDAR