BEGIN:VCALENDAR
VERSION:2.0
PRODID:-//Bullitt County Public Library - ECPv5.16.4//NONSGML v1.0//EN
CALSCALE:GREGORIAN
METHOD:PUBLISH
X-WR-CALNAME:Bullitt County Public Library
X-ORIGINAL-URL:https://bcplib.org
X-WR-CALDESC:Events for Bullitt County Public Library
BEGIN:VTIMEZONE
TZID:America/Kentucky/Louisville
BEGIN:DAYLIGHT
TZOFFSETFROM:-0500
TZOFFSETTO:-0400
TZNAME:EDT
DTSTART:20220313T070000
END:DAYLIGHT
BEGIN:STANDARD
TZOFFSETFROM:-0400
TZOFFSETTO:-0500
TZNAME:EST
DTSTART:20221106T060000
END:STANDARD
END:VTIMEZONE
BEGIN:VEVENT
DTSTART;TZID=America/Kentucky/Louisville:20220201T180000
DTEND;TZID=America/Kentucky/Louisville:20220201T190000
DTSTAMP:20260422T085556
CREATED:20220111T182500Z
LAST-MODIFIED:20220111T183615Z
UID:99285-1643738400-1643742000@bcplib.org
SUMMARY:Chinese New Year Celebration
DESCRIPTION:2022 is the Year of the Tiger… \nJoin us to start Chinese New Year with a festive celebration of family and new beginnings! Enjoy a fun and informative storytime about Chinese New Year traditions. Craft your very own dragon mask and partake in a special dragon dance\, believed to bring in good luck for the new year. Plus\, create free-standing tigers and make a beautiful lantern with jewels and washi tape. \nFor children of all ages. Just drop in!\nSeating and supplies will be available on a first come\, first-served basis. Questions? Call Jillian at 543-7675 ext. 2557 or e-mail jillian@bcplib.org.
URL:https://bcplib.org/event/chinese-new-year-celebration-lj/
LOCATION:Lebanon Junction Branch\, 11382 S. Preston Highway\, Lebanon Junction\, KY\, 40150\, United States
CATEGORIES:Tweens,Kids
ORGANIZER;CN="Jillian":MAILTO:jillian@bcplib.org
GEO:37.8417678;-85.7287508
X-APPLE-STRUCTURED-LOCATION;VALUE=URI;X-ADDRESS=Lebanon Junction Branch 11382 S. Preston Highway Lebanon Junction KY 40150 United States;X-APPLE-RADIUS=500;X-TITLE=11382 S. Preston Highway:geo:-85.7287508,37.8417678
END:VEVENT
END:VCALENDAR