BEGIN:VCALENDAR
VERSION:2.0
PRODID:-//Bullitt County Public Library - ECPv5.16.4//NONSGML v1.0//EN
CALSCALE:GREGORIAN
METHOD:PUBLISH
X-WR-CALNAME:Bullitt County Public Library
X-ORIGINAL-URL:https://bcplib.org
X-WR-CALDESC:Events for Bullitt County Public Library
BEGIN:VTIMEZONE
TZID:America/Kentucky/Louisville
BEGIN:DAYLIGHT
TZOFFSETFROM:-0500
TZOFFSETTO:-0400
TZNAME:EDT
DTSTART:20180311T070000
END:DAYLIGHT
BEGIN:STANDARD
TZOFFSETFROM:-0400
TZOFFSETTO:-0500
TZNAME:EST
DTSTART:20181104T060000
END:STANDARD
END:VTIMEZONE
BEGIN:VEVENT
DTSTART;TZID=America/Kentucky/Louisville:20181106T130000
DTEND;TZID=America/Kentucky/Louisville:20181106T140000
DTSTAMP:20260423T144344
CREATED:20180420T185906Z
LAST-MODIFIED:20181003T130714Z
UID:28582-1541509200-1541512800@bcplib.org
SUMMARY:Chair Yoga
DESCRIPTION:Stop by on Tuesday afternoons in November to enjoy chair yoga with certified instructor Stephanie Jackson. \nRegular yoga is so intimidating! But have you tried chair yoga? This low-impact version is performed with a chair for support\, making it perfect for a beginner or someone with difficulty balancing. Enjoy a gentler workout without becoming an arm-and-leg pretzel! \nPsst…. We will also be offering Chair Yoga at Ridgway Memorial on Tuesday evenings in January! \nFor ages 18 and up. Just drop in\, but remember to wear comfortable clothing!\nSeating will be available on a first-come\, first-served basis. Questions? E-mail gayle@bcplib.org.
URL:https://bcplib.org/event/chair-yoga-hl/2018-11-06/
LOCATION:Hillview Branch\, 155 Terry Boulevard\, Hillview\, KY\, 40229\, United States
CATEGORIES:Adults
ORGANIZER;CN="Gayle":MAILTO:gayle@bcplib.org
GEO:38.077247;-85.688966
X-APPLE-STRUCTURED-LOCATION;VALUE=URI;X-ADDRESS=Hillview Branch 155 Terry Boulevard Hillview KY 40229 United States;X-APPLE-RADIUS=500;X-TITLE=155 Terry Boulevard:geo:-85.688966,38.077247
END:VEVENT
END:VCALENDAR