BEGIN:VCALENDAR
VERSION:2.0
PRODID:-//Bullitt County Public Library - ECPv5.16.4//NONSGML v1.0//EN
CALSCALE:GREGORIAN
METHOD:PUBLISH
X-WR-CALNAME:Bullitt County Public Library
X-ORIGINAL-URL:https://bcplib.org
X-WR-CALDESC:Events for Bullitt County Public Library
BEGIN:VTIMEZONE
TZID:America/Kentucky/Louisville
BEGIN:DAYLIGHT
TZOFFSETFROM:-0500
TZOFFSETTO:-0400
TZNAME:EDT
DTSTART:20210314T070000
END:DAYLIGHT
BEGIN:STANDARD
TZOFFSETFROM:-0400
TZOFFSETTO:-0500
TZNAME:EST
DTSTART:20211107T060000
END:STANDARD
END:VTIMEZONE
BEGIN:VEVENT
DTSTART;TZID=America/Kentucky/Louisville:20210913T100000
DTEND;TZID=America/Kentucky/Louisville:20210913T110000
DTSTAMP:20260423T030816
CREATED:20210826T132204Z
LAST-MODIFIED:20220118T192215Z
UID:96611-1631527200-1631530800@bcplib.org
SUMMARY:Chair Yoga
DESCRIPTION:Regular yoga is so intimidating—try chair yoga! \nStart your week well with “choga” fun and relaxation in a class atmosphere. Together\, we’ll work our way through a series of videos provided by certified instructor Stephanie Jackson. \nNow you can enjoy a gentler yoga workout without becoming an arm-and-leg pretzel. This low-impact version is performed with a chair for support\, making it perfect for a beginner or someone with difficulty balancing. Some individuals in wheelchairs may also be able to participate; please consult your doctor first if you have medical questions or concerns. \nFor ages 16 and up. Just drop in\, but remember to wear comfortable clothing!\nSeating will be available on a first-come\, first-served basis. Questions? E-mail gayle@bcplib.org. \n\nCHAIR YOGA SCHEDULE \n\nWEEKLY: Monday Mornings\, 10:00–11:00 AM @Mt. Washington\nMONTHLY: 1st Wednesdays\, 10:00–11:00 AM @Ridgway Memorial  *Begins January 2022!\n\nMONTHLY: 3rd Wednesdays\, 10:00–11:00 AM @Lebanon Junction  *Begins January 2022!\n\n 
URL:https://bcplib.org/event/chair-yoga-2021/2021-09-13/
LOCATION:Mt. Washington Branch\, 214 N. Bardstown Road\, Mt. Washington\, KY\, 40047\, United States
CATEGORIES:Adults,Teens
ORGANIZER;CN="Gayle":MAILTO:gayle@bcplib.org
GEO:38.0492119;-85.5430434
X-APPLE-STRUCTURED-LOCATION;VALUE=URI;X-ADDRESS=Mt. Washington Branch 214 N. Bardstown Road Mt. Washington KY 40047 United States;X-APPLE-RADIUS=500;X-TITLE=214 N. Bardstown Road:geo:-85.5430434,38.0492119
END:VEVENT
END:VCALENDAR