BEGIN:VCALENDAR
VERSION:2.0
PRODID:-//Bullitt County Public Library - ECPv5.16.4//NONSGML v1.0//EN
CALSCALE:GREGORIAN
METHOD:PUBLISH
X-WR-CALNAME:Bullitt County Public Library
X-ORIGINAL-URL:https://bcplib.org
X-WR-CALDESC:Events for Bullitt County Public Library
BEGIN:VTIMEZONE
TZID:America/Kentucky/Louisville
BEGIN:DAYLIGHT
TZOFFSETFROM:-0500
TZOFFSETTO:-0400
TZNAME:EDT
DTSTART:20170312T070000
END:DAYLIGHT
BEGIN:STANDARD
TZOFFSETFROM:-0400
TZOFFSETTO:-0500
TZNAME:EST
DTSTART:20171105T060000
END:STANDARD
END:VTIMEZONE
BEGIN:VEVENT
DTSTART;TZID=America/Kentucky/Louisville:20171220T180000
DTEND;TZID=America/Kentucky/Louisville:20171220T190000
DTSTAMP:20260423T121526
CREATED:20171114T214909Z
LAST-MODIFIED:20171219T162913Z
UID:21190-1513792800-1513796400@bcplib.org
SUMMARY:Centennial Commemoration
DESCRIPTION:Join BCPL in partnership with the Bullitt County History Museum to pay tribute to the worst train disaster in L&N Railroad history. \nLocal historian Charles Hartley will share the tale of what happened on that fateful day and honor those who perished. \nFor all ages. Free refreshments will be provided. Registration is required for a select number of reserved seats. Additional seating will be available on the day of the event on a first-come\, first-served basis. Questions? Call Gayle or at 543-7675 ext. 2551 or e-mail gayle@bcplib.org. \n\nWe’re sorry\, but guaranteed seating for this event is closed. Drop-ins are welcome as space allows!
URL:https://bcplib.org/event/centennial/
LOCATION:Ridgway Memorial Library\, 127 N. Walnut Street\, Shepherdsville\, KY\, 40165\, United States
CATEGORIES:Adults,Teens,Tweens,Kids,Family
ORGANIZER;CN="Gayle":MAILTO:gayle@bcplib.org
GEO:38.001133520394;-85.706045160467
X-APPLE-STRUCTURED-LOCATION;VALUE=URI;X-ADDRESS=Ridgway Memorial Library 127 N. Walnut Street Shepherdsville KY 40165 United States;X-APPLE-RADIUS=500;X-TITLE=127 N. Walnut Street:geo:-85.706045160467,38.001133520394
END:VEVENT
END:VCALENDAR