BEGIN:VCALENDAR
VERSION:2.0
PRODID:-//Bullitt County Public Library - ECPv5.16.4//NONSGML v1.0//EN
CALSCALE:GREGORIAN
METHOD:PUBLISH
X-WR-CALNAME:Bullitt County Public Library
X-ORIGINAL-URL:https://bcplib.org
X-WR-CALDESC:Events for Bullitt County Public Library
BEGIN:VTIMEZONE
TZID:America/Kentucky/Louisville
BEGIN:DAYLIGHT
TZOFFSETFROM:-0500
TZOFFSETTO:-0400
TZNAME:EDT
DTSTART:20180311T070000
END:DAYLIGHT
BEGIN:STANDARD
TZOFFSETFROM:-0400
TZOFFSETTO:-0500
TZNAME:EST
DTSTART:20181104T060000
END:STANDARD
END:VTIMEZONE
BEGIN:VEVENT
DTSTART;TZID=America/Kentucky/Louisville:20181101T180000
DTEND;TZID=America/Kentucky/Louisville:20181101T190000
DTSTAMP:20260424T011929
CREATED:20181022T190313Z
LAST-MODIFIED:20181022T190313Z
UID:38211-1541095200-1541098800@bcplib.org
SUMMARY:Cards of Cheer
DESCRIPTION:It’s the time of year for giving\, and what better way to give back to your community than to create cards of cheer to brighten someone’s day! \nWhether you are already in the holiday spirit or looking for something to launch the season off to a great start\, join us as we create holiday cards to send to our local outreaches. Start this holiday season with a small gesture that will truly mean a lot to someone else in your community—and hopefully bring a little joy to your day too. \nFor children of all ages.\nRegistration is required for a select number of reserved seats. Additional seating will be available on a first-come\, first-served basis. Questions? E-mail brandy@bcplib.org.
URL:https://bcplib.org/event/cards-of-cheer-mw/
LOCATION:Mt. Washington Branch\, 214 N. Bardstown Road\, Mt. Washington\, KY\, 40047\, United States
CATEGORIES:Tweens,Kids,Family
ORGANIZER;CN="Angel":MAILTO:angel@bcplib.org
GEO:38.0492119;-85.5430434
X-APPLE-STRUCTURED-LOCATION;VALUE=URI;X-ADDRESS=Mt. Washington Branch 214 N. Bardstown Road Mt. Washington KY 40047 United States;X-APPLE-RADIUS=500;X-TITLE=214 N. Bardstown Road:geo:-85.5430434,38.0492119
END:VEVENT
END:VCALENDAR