BEGIN:VCALENDAR
VERSION:2.0
PRODID:-//Bullitt County Public Library - ECPv5.16.4//NONSGML v1.0//EN
CALSCALE:GREGORIAN
METHOD:PUBLISH
X-WR-CALNAME:Bullitt County Public Library
X-ORIGINAL-URL:https://bcplib.org
X-WR-CALDESC:Events for Bullitt County Public Library
BEGIN:VTIMEZONE
TZID:America/Kentucky/Louisville
BEGIN:DAYLIGHT
TZOFFSETFROM:-0500
TZOFFSETTO:-0400
TZNAME:EDT
DTSTART:20200308T070000
END:DAYLIGHT
BEGIN:STANDARD
TZOFFSETFROM:-0400
TZOFFSETTO:-0500
TZNAME:EST
DTSTART:20201101T060000
END:STANDARD
END:VTIMEZONE
BEGIN:VEVENT
DTSTART;TZID=America/Kentucky/Louisville:20200328T140000
DTEND;TZID=America/Kentucky/Louisville:20200328T150000
DTSTAMP:20260423T192601
CREATED:20200121T205119Z
LAST-MODIFIED:20200326T133651Z
UID:72667-1585404000-1585407600@bcplib.org
SUMMARY:CANCELED | Bunny Bonanza
DESCRIPTION:Hop over to the library and meet some adorable\, lovable bunnies!  \nCome say hello to the buns and people of the Bun Bun Brigade\, a private rabbit rescue from Elizabethtown. Discover what responsibilities are associated with adopting a bunny while you meet-and-greet with cute\, furry friends during a laid-back event. \nPsst… All participating bunnies will be available for adoption. \nFor all ages. Just drop in!\nSpace will be available on a first-come\, first-served basis. Questions? E-mail brandy@bcplib.org.
URL:https://bcplib.org/event/bunny-bonanza-2020/
LOCATION:Hillview Branch\, 155 Terry Boulevard\, Hillview\, KY\, 40229\, United States
CATEGORIES:Adults,Teens,Tweens,Kids,Family
GEO:38.077247;-85.688966
X-APPLE-STRUCTURED-LOCATION;VALUE=URI;X-ADDRESS=Hillview Branch 155 Terry Boulevard Hillview KY 40229 United States;X-APPLE-RADIUS=500;X-TITLE=155 Terry Boulevard:geo:-85.688966,38.077247
END:VEVENT
END:VCALENDAR