BEGIN:VCALENDAR
VERSION:2.0
PRODID:-//Bullitt County Public Library - ECPv5.16.4//NONSGML v1.0//EN
CALSCALE:GREGORIAN
METHOD:PUBLISH
X-WR-CALNAME:Bullitt County Public Library
X-ORIGINAL-URL:https://bcplib.org
X-WR-CALDESC:Events for Bullitt County Public Library
BEGIN:VTIMEZONE
TZID:America/Kentucky/Louisville
BEGIN:DAYLIGHT
TZOFFSETFROM:-0500
TZOFFSETTO:-0400
TZNAME:EDT
DTSTART:20220313T070000
END:DAYLIGHT
BEGIN:STANDARD
TZOFFSETFROM:-0400
TZOFFSETTO:-0500
TZNAME:EST
DTSTART:20221106T060000
END:STANDARD
END:VTIMEZONE
BEGIN:VEVENT
DTSTART;TZID=America/Kentucky/Louisville:20220420T140000
DTEND;TZID=America/Kentucky/Louisville:20220420T153000
DTSTAMP:20260421T235108
CREATED:20220318T193645Z
LAST-MODIFIED:20220328T205701Z
UID:101248-1650463200-1650468600@bcplib.org
SUMMARY:Budgeting in Real Life
DESCRIPTION:“Budgeting isn’t about limiting yourself. It’s about making the things that excite you possible.” –Unknown \nEver wonder were all your money goes? Or how to afford a new hobby\, college tuition\, or your dream vacation? Join us to explore real-life strategies for creating a budget you can follow. We’ll all learn together in a relaxed classroom atmosphere\, following expert video tutorials with hands-on practice and short discussions of the material—and your real-life situations—along the way. \nFor ages 16 and up. Just drop in!\nSpace and supplemental materials will be available on a first-come\, first-served basis. Questions? Contact Gayle at 543-7675 ext. 2551 or e-mail gayle@bcplib.org.
URL:https://bcplib.org/event/budgeting-in-real-life/2022-04-20/
LOCATION:Mt. Washington Branch\, 214 N. Bardstown Road\, Mt. Washington\, KY\, 40047\, United States
CATEGORIES:Adults,Teens
ORGANIZER;CN="Gayle":MAILTO:gayle@bcplib.org
GEO:38.0492119;-85.5430434
X-APPLE-STRUCTURED-LOCATION;VALUE=URI;X-ADDRESS=Mt. Washington Branch 214 N. Bardstown Road Mt. Washington KY 40047 United States;X-APPLE-RADIUS=500;X-TITLE=214 N. Bardstown Road:geo:-85.5430434,38.0492119
END:VEVENT
END:VCALENDAR