BEGIN:VCALENDAR
VERSION:2.0
PRODID:-//Bullitt County Public Library - ECPv5.16.4//NONSGML v1.0//EN
CALSCALE:GREGORIAN
METHOD:PUBLISH
X-WR-CALNAME:Bullitt County Public Library
X-ORIGINAL-URL:https://bcplib.org
X-WR-CALDESC:Events for Bullitt County Public Library
BEGIN:VTIMEZONE
TZID:America/Kentucky/Louisville
BEGIN:DAYLIGHT
TZOFFSETFROM:-0500
TZOFFSETTO:-0400
TZNAME:EDT
DTSTART:20180311T070000
END:DAYLIGHT
BEGIN:STANDARD
TZOFFSETFROM:-0400
TZOFFSETTO:-0500
TZNAME:EST
DTSTART:20181104T060000
END:STANDARD
END:VTIMEZONE
BEGIN:VEVENT
DTSTART;TZID=America/Kentucky/Louisville:20180809T120000
DTEND;TZID=America/Kentucky/Louisville:20180809T133000
DTSTAMP:20260424T172428
CREATED:20170327T163951Z
LAST-MODIFIED:20200701T221202Z
UID:4410-1533816000-1533821400@bcplib.org
SUMMARY:Brown Bag Book Club
DESCRIPTION:Bring your lunch on the 2nd Thursday of each month and join the discussion! \nWe’ll enjoy our lunches and chat about all the books we’ve loved and hated recently. Be ready to share your own reading adventures! \nAges 18 and up. Just drop in!\nSeating will be available on a first-come\, first-served basis. \n\n 
URL:https://bcplib.org/event/brown-bag-book-club/2018-08-09/
LOCATION:Lebanon Junction Branch\, 11382 S. Preston Highway\, Lebanon Junction\, KY\, 40150\, United States
CATEGORIES:Adults
ORGANIZER;CN="Gayle":MAILTO:gayle@bcplib.org
GEO:37.8417678;-85.7287508
X-APPLE-STRUCTURED-LOCATION;VALUE=URI;X-ADDRESS=Lebanon Junction Branch 11382 S. Preston Highway Lebanon Junction KY 40150 United States;X-APPLE-RADIUS=500;X-TITLE=11382 S. Preston Highway:geo:-85.7287508,37.8417678
END:VEVENT
END:VCALENDAR