BEGIN:VCALENDAR
VERSION:2.0
PRODID:-//Bullitt County Public Library - ECPv5.16.4//NONSGML v1.0//EN
CALSCALE:GREGORIAN
METHOD:PUBLISH
X-WR-CALNAME:Bullitt County Public Library
X-ORIGINAL-URL:https://bcplib.org
X-WR-CALDESC:Events for Bullitt County Public Library
BEGIN:VTIMEZONE
TZID:America/Kentucky/Louisville
BEGIN:DAYLIGHT
TZOFFSETFROM:-0500
TZOFFSETTO:-0400
TZNAME:EDT
DTSTART:20220313T070000
END:DAYLIGHT
BEGIN:STANDARD
TZOFFSETFROM:-0400
TZOFFSETTO:-0500
TZNAME:EST
DTSTART:20221106T060000
END:STANDARD
END:VTIMEZONE
BEGIN:VEVENT
DTSTART;TZID=America/Kentucky/Louisville:20220601T140000
DTEND;TZID=America/Kentucky/Louisville:20220601T180000
DTSTAMP:20260421T194708
CREATED:20220511T185535Z
LAST-MODIFIED:20220511T185535Z
UID:102081-1654092000-1654106400@bcplib.org
SUMMARY:Blood Drive with American Red Cross
DESCRIPTION:DID YOU KNOW? Every 2 seconds\, someone in the U.S. needs blood…\n \nBlood donors help save the lives of people of all ages every day\, including burn victims\, heart surgery and cancer patients\, trauma victims\, and many others. BCPL is partnering with the American Red Cross to provide a safe\, relaxing\, and convenient location to donate blood. You can make a difference by giving a small part of your day to join us at Hillview Branch Library. Whatever your blood type may be\, all types are valuable and can help save lives. \nFor ages 16 and up.\nDonors under the age of 17 must have a signed parental consent form to participate. Donors ages 16 or 17 MUST show a form of ID that includes their birthdate. \nReservations for specific times can be made at redcrossblood.org. Otherwise\, just drop in! Space will be available on a first-come\, first-served basis. Questions? Call Claire at 502-543-7675 ext. 2553 or e-mail claire@bcplib.org. \n\nPlease bring your donor card\, driver’s license\, or two other forms of identification.\nBe prepared to list all of the over-the-counter and prescription medications you are currently taking. \nAdditional tips for the day of your donation: \n\nDrink an extra 16 oz. of water (or other nonalcoholic drink) before your appointment.\nEat a healthy meal\, avoiding fatty foods like hamburgers\, fries\, or ice cream.\nWear a shirt with sleeves that you can roll up above your elbows.\nLet us know if you have a preferred arm or particular vein that has been used successfully in the past to draw blood.\nRelax\, listen to music\, talk to other donors\, or read while you donate.\n\nFor more information on the requirements for giving blood\, please visit redcrossblood.org.
URL:https://bcplib.org/event/blood-drive-summer2022/2022-06-01/
LOCATION:Hillview Branch\, 155 Terry Boulevard\, Hillview\, KY\, 40229\, United States
CATEGORIES:Adults,Teens
ORGANIZER;CN="Claire":MAILTO:claire@bcplib.org
GEO:38.077247;-85.688966
X-APPLE-STRUCTURED-LOCATION;VALUE=URI;X-ADDRESS=Hillview Branch 155 Terry Boulevard Hillview KY 40229 United States;X-APPLE-RADIUS=500;X-TITLE=155 Terry Boulevard:geo:-85.688966,38.077247
END:VEVENT
END:VCALENDAR