BEGIN:VCALENDAR
VERSION:2.0
PRODID:-//Bullitt County Public Library - ECPv5.16.4//NONSGML v1.0//EN
CALSCALE:GREGORIAN
METHOD:PUBLISH
X-WR-CALNAME:Bullitt County Public Library
X-ORIGINAL-URL:https://bcplib.org
X-WR-CALDESC:Events for Bullitt County Public Library
BEGIN:VTIMEZONE
TZID:America/Kentucky/Louisville
BEGIN:DAYLIGHT
TZOFFSETFROM:-0500
TZOFFSETTO:-0400
TZNAME:EDT
DTSTART:20200308T070000
END:DAYLIGHT
BEGIN:STANDARD
TZOFFSETFROM:-0400
TZOFFSETTO:-0500
TZNAME:EST
DTSTART:20201101T060000
END:STANDARD
END:VTIMEZONE
BEGIN:VEVENT
DTSTART;TZID=America/Kentucky/Louisville:20200224T180000
DTEND;TZID=America/Kentucky/Louisville:20200224T190000
DTSTAMP:20260423T180216
CREATED:20200103T213310Z
LAST-MODIFIED:20200103T213310Z
UID:71299-1582567200-1582570800@bcplib.org
SUMMARY:Black History Month Evening Storytime
DESCRIPTION:I was the conductor of the Underground Railroad for eight years\, and I can say what most conductors can’t say—I never ran my train off the track and I never lost a passenger.  –Harriet Tubman at a suffrage convention\, NY\, 1896. \nAll aboard! In honor of Black History Month\, join us for a special evening storytime celebrating African American heritage. We’ll enjoy stories about some significant African American figures and read some fantastic picture books written by African American authors. Plus\, create your very own Freedom Quilt squares! Some believe that slaves used a code of patterns to create “Freedom Quilts” that provided hidden signals for travelers along the route of the underground railroad. \nFor children of all ages and their families. Just drop in!\nSeating will be available on a first-come\, first-served basis. Questions? E-mail jillian@bcplib.org.
URL:https://bcplib.org/event/black-history-month-evening-storytime-rm/
LOCATION:Ridgway Memorial Library\, 127 N. Walnut Street\, Shepherdsville\, KY\, 40165\, United States
CATEGORIES:Tweens,Kids,Family
ORGANIZER;CN="Jillian":MAILTO:jillian@bcplib.org
GEO:38.001133520394;-85.706045160467
X-APPLE-STRUCTURED-LOCATION;VALUE=URI;X-ADDRESS=Ridgway Memorial Library 127 N. Walnut Street Shepherdsville KY 40165 United States;X-APPLE-RADIUS=500;X-TITLE=127 N. Walnut Street:geo:-85.706045160467,38.001133520394
END:VEVENT
END:VCALENDAR