BEGIN:VCALENDAR
VERSION:2.0
PRODID:-//Bullitt County Public Library - ECPv5.16.4//NONSGML v1.0//EN
CALSCALE:GREGORIAN
METHOD:PUBLISH
X-WR-CALNAME:Bullitt County Public Library
X-ORIGINAL-URL:https://bcplib.org
X-WR-CALDESC:Events for Bullitt County Public Library
BEGIN:VTIMEZONE
TZID:America/Kentucky/Louisville
BEGIN:DAYLIGHT
TZOFFSETFROM:-0500
TZOFFSETTO:-0400
TZNAME:EDT
DTSTART:20220313T070000
END:DAYLIGHT
BEGIN:STANDARD
TZOFFSETFROM:-0400
TZOFFSETTO:-0500
TZNAME:EST
DTSTART:20221106T060000
END:STANDARD
END:VTIMEZONE
BEGIN:VEVENT
DTSTART;TZID=America/Kentucky/Louisville:20220625T110000
DTEND;TZID=America/Kentucky/Louisville:20220625T160000
DTSTAMP:20260421T185802
CREATED:20220525T150521Z
LAST-MODIFIED:20220525T150831Z
UID:102570-1656154800-1656172800@bcplib.org
SUMMARY:Black-Owned Small Business Showcase
DESCRIPTION:Explore local Black-owned businesses! \nDiscover an amazing assortment of Black-owned businesses operating in the Bullitt County/Louisville area\, and learn more about their products and services. Plus\, chat with the owners for advice on starting your own business. From food and catering to media companies\, there is something for everyone to explore.\n \nFEATURED BUSINESSES INCLUDE: \n\nBeenetwork Media Group/PITISE Publishers  (YouTube) \nGeorge Addison\nFeaturing publishing company info and book sales.\nBK Royston Publishing  (Facebook)\nJulia Royston\nBrowse books for sale PLUS chat with two published authors about their work and publishing experience.\nBrew & Sip Coffee Bar & Flavorfull Catering Co.  (Facebook)\nLaToya Bradley\nEnjoy samples of chicken salad sandwiches\, iced coffee\, and espresso beverages!\n\nA Chelle of a Dessert  (Facebook)\nMichelle Miles\nChelle specializes in banana pudding and cheesecake. Individually packaged cheesecake jars will be for sale!\nLG TV Productions  (Facebook)\nDee Johnson\nWhether for your own inspiration or if you are interested in available services\, learn more about this local photography and production company.\n\nLucretia’s Kitchen  (Facebook)\nLucretia Thompson\nTaste test some of the most popular items on the menu! Lucretia’s Kitchen serves soul food/BBQ and more.\n\nSerene Nights Candle Co.  (Facebook | Instagram)\nNoesha Franklin\n\n\nFor all ages. Just drop in!\nSpace\, samples\, and products will be available on a first-come\, first-served basis. Questions? Call Raychel at 543-7675 ext. 2010 or e-mail raychel@bcplib.org. \n\nABOUT JUNETEENTH\nA holiday commemorating Black freedom\, Juneteenth marks news of the Emancipation Proclamation reaching enslaved Black people in Texas on June 19\, 1865 and their subsequent liberation—more than two and a half years after the Proclamation. The observance of Juneteenth is about the journey and achievement of Black individuals\, the many contributions they make in improving society for all\, and the ongoing fight for equality. It is a time for rejoicing and reflection.
URL:https://bcplib.org/event/black-business-showcase/
LOCATION:Ridgway Memorial Library\, 127 N. Walnut Street\, Shepherdsville\, KY\, 40165\, United States
CATEGORIES:Adults,Teens,Family
ORGANIZER;CN="Raychel":MAILTO:rbennet@bcplib.org
GEO:38.001133520394;-85.706045160467
X-APPLE-STRUCTURED-LOCATION;VALUE=URI;X-ADDRESS=Ridgway Memorial Library 127 N. Walnut Street Shepherdsville KY 40165 United States;X-APPLE-RADIUS=500;X-TITLE=127 N. Walnut Street:geo:-85.706045160467,38.001133520394
END:VEVENT
END:VCALENDAR