BEGIN:VCALENDAR
VERSION:2.0
PRODID:-//Bullitt County Public Library - ECPv5.16.4//NONSGML v1.0//EN
CALSCALE:GREGORIAN
METHOD:PUBLISH
X-WR-CALNAME:Bullitt County Public Library
X-ORIGINAL-URL:https://bcplib.org
X-WR-CALDESC:Events for Bullitt County Public Library
BEGIN:VTIMEZONE
TZID:America/Kentucky/Louisville
BEGIN:DAYLIGHT
TZOFFSETFROM:-0500
TZOFFSETTO:-0400
TZNAME:EDT
DTSTART:20190310T070000
END:DAYLIGHT
BEGIN:STANDARD
TZOFFSETFROM:-0400
TZOFFSETTO:-0500
TZNAME:EST
DTSTART:20191103T060000
END:STANDARD
END:VTIMEZONE
BEGIN:VEVENT
DTSTART;TZID=America/Kentucky/Louisville:20190201T173000
DTEND;TZID=America/Kentucky/Louisville:20190201T183000
DTSTAMP:20260422T165929
CREATED:20180809T213835Z
LAST-MODIFIED:20190108T190303Z
UID:44476-1549042200-1549045800@bcplib.org
SUMMARY:Bingo!
DESCRIPTION:Grab your good luck charm and head to the library for a fun night of bingo!  \nBring a group of friends for a super-casual night out\, or come alone and block the world out while you go into competition mode. We’ll play a number of rounds\, including single line\, cover all\, and four corners. Prizes will include sweet treats\, cooking items\, and a variety of other items to help you pamper yourself! \n(And remember… Mike is hosting\, so you can expect a few jokes and silly antics to keep things interesting!) \nAges 18 and up. Just drop in!\nSeating will be available on a first-come\, first-served basis. Questions? E-mail mike@bcplib.org.
URL:https://bcplib.org/event/bingo-march-rm/2019-02-01/
LOCATION:Ridgway Memorial Library\, 127 N. Walnut Street\, Shepherdsville\, KY\, 40165\, United States
CATEGORIES:Adults
ORGANIZER;CN="Mike":MAILTO:mike@bcplib.org
GEO:38.001133520394;-85.706045160467
X-APPLE-STRUCTURED-LOCATION;VALUE=URI;X-ADDRESS=Ridgway Memorial Library 127 N. Walnut Street Shepherdsville KY 40165 United States;X-APPLE-RADIUS=500;X-TITLE=127 N. Walnut Street:geo:-85.706045160467,38.001133520394
END:VEVENT
END:VCALENDAR