BEGIN:VCALENDAR
VERSION:2.0
PRODID:-//Bullitt County Public Library - ECPv5.16.4//NONSGML v1.0//EN
CALSCALE:GREGORIAN
METHOD:PUBLISH
X-WR-CALNAME:Bullitt County Public Library
X-ORIGINAL-URL:https://bcplib.org
X-WR-CALDESC:Events for Bullitt County Public Library
BEGIN:VTIMEZONE
TZID:America/Kentucky/Louisville
BEGIN:DAYLIGHT
TZOFFSETFROM:-0500
TZOFFSETTO:-0400
TZNAME:EDT
DTSTART:20190310T070000
END:DAYLIGHT
BEGIN:STANDARD
TZOFFSETFROM:-0400
TZOFFSETTO:-0500
TZNAME:EST
DTSTART:20191103T060000
END:STANDARD
END:VTIMEZONE
BEGIN:VEVENT
DTSTART;TZID=America/Kentucky/Louisville:20190114T180000
DTEND;TZID=America/Kentucky/Louisville:20190114T190000
DTSTAMP:20260422T052707
CREATED:20181119T224134Z
LAST-MODIFIED:20181130T163921Z
UID:41711-1547488800-1547492400@bcplib.org
SUMMARY:Bingo!
DESCRIPTION:Grab your bingo buddy and good luck charm and head for the library!  \nRound up the kids for a family-friendly outing\, or bring a group of friends for a super-casual night out. We’ll be playing simple\, regular bingo. No surprises or fancy gimmicks—but we’ll have a whole lotta fun! Prizes will include a selection of books and movies. Plus\, one lucky coverall winner will receive a special collection of books\, movies\, snacks\, and other goodies! \nLight refreshments will be provided. \nFor all ages.\nRegistration is required for a select number of reserved seats. Additional seating will be available on a first-come\, first-served basis. Questions? E-mail bferriell@bcplib.org.
URL:https://bcplib.org/event/bingo-2-2019-01-14/2019-01-14/
LOCATION:Lebanon Junction Branch\, 11382 S. Preston Highway\, Lebanon Junction\, KY\, 40150\, United States
CATEGORIES:Adults,Teens,Tweens,Kids,Family
GEO:37.8417678;-85.7287508
X-APPLE-STRUCTURED-LOCATION;VALUE=URI;X-ADDRESS=Lebanon Junction Branch 11382 S. Preston Highway Lebanon Junction KY 40150 United States;X-APPLE-RADIUS=500;X-TITLE=11382 S. Preston Highway:geo:-85.7287508,37.8417678
END:VEVENT
END:VCALENDAR