BEGIN:VCALENDAR
VERSION:2.0
PRODID:-//Bullitt County Public Library - ECPv5.16.4//NONSGML v1.0//EN
CALSCALE:GREGORIAN
METHOD:PUBLISH
X-WR-CALNAME:Bullitt County Public Library
X-ORIGINAL-URL:https://bcplib.org
X-WR-CALDESC:Events for Bullitt County Public Library
BEGIN:VTIMEZONE
TZID:America/Kentucky/Louisville
BEGIN:DAYLIGHT
TZOFFSETFROM:-0500
TZOFFSETTO:-0400
TZNAME:EDT
DTSTART:20220313T070000
END:DAYLIGHT
BEGIN:STANDARD
TZOFFSETFROM:-0400
TZOFFSETTO:-0500
TZNAME:EST
DTSTART:20221106T060000
END:STANDARD
END:VTIMEZONE
BEGIN:VEVENT
DTSTART;TZID=America/Kentucky/Louisville:20220720T180000
DTEND;TZID=America/Kentucky/Louisville:20220720T190000
DTSTAMP:20260421T154720
CREATED:20210827T202150Z
LAST-MODIFIED:20220419T182144Z
UID:100572-1658340000-1658343600@bcplib.org
SUMMARY:Bingo
DESCRIPTION:Grab your good luck charm and head to the library for a fun night of bingo!  \nMake it a family outing\, bring a group of friends for a super-casual night out\, or come alone and block the world out while you go into competition mode. We’ll play a number of rounds\, including single line\, cover all\, and four corners. Prizes will include sweet treats\, household items\, and other items to help you pamper yourself! \nPlease note: Next month\, Bingo is moving to the 2nd Wednesday of the month (August 10th). \nFor all ages. Just drop in!\nSeating will be available on a first-come\, first-served basis. Questions? Call Claire at 543-7675 ext. 2553 or e-mail claire@bcplib.org. \n\nMORE BINGO FUN \n\nAdults Only BINGO @Hillview\nFamily Bingo @Ridgway Memorial\nFamily Bingo @Lebanon Junction\nFamily Bingo @Nichols
URL:https://bcplib.org/event/bingo-07-20/
LOCATION:Hillview Branch\, 155 Terry Boulevard\, Hillview\, KY\, 40229\, United States
CATEGORIES:Adults,Teens,Tweens,Kids,Family
ORGANIZER;CN="Claire":MAILTO:claire@bcplib.org
GEO:38.077247;-85.688966
X-APPLE-STRUCTURED-LOCATION;VALUE=URI;X-ADDRESS=Hillview Branch 155 Terry Boulevard Hillview KY 40229 United States;X-APPLE-RADIUS=500;X-TITLE=155 Terry Boulevard:geo:-85.688966,38.077247
END:VEVENT
END:VCALENDAR