BEGIN:VCALENDAR
VERSION:2.0
PRODID:-//Bullitt County Public Library - ECPv5.16.4//NONSGML v1.0//EN
CALSCALE:GREGORIAN
METHOD:PUBLISH
X-WR-CALNAME:Bullitt County Public Library
X-ORIGINAL-URL:https://bcplib.org
X-WR-CALDESC:Events for Bullitt County Public Library
BEGIN:VTIMEZONE
TZID:America/Kentucky/Louisville
BEGIN:DAYLIGHT
TZOFFSETFROM:-0500
TZOFFSETTO:-0400
TZNAME:EDT
DTSTART:20210314T070000
END:DAYLIGHT
BEGIN:STANDARD
TZOFFSETFROM:-0400
TZOFFSETTO:-0500
TZNAME:EST
DTSTART:20211107T060000
END:STANDARD
END:VTIMEZONE
BEGIN:VEVENT
DTSTART;TZID=America/Kentucky/Louisville:20211101T120000
DTEND;TZID=America/Kentucky/Louisville:20211101T133000
DTSTAMP:20260422T204637
CREATED:20211118T171430Z
LAST-MODIFIED:20211118T171430Z
UID:75268-1635768000-1635773400@bcplib.org
SUMMARY:Brown Bag Book Club
DESCRIPTION:Bring your lunch to the library on the 2nd Tuesday of each month! \nCome enjoy a good\, bookish conversation for a lunch to remember. Share your own reading adventures\, get recommendations\, and discuss our latest book selection. Coffee and tea will be provided. \nUPCOMING SELECTIONS: \n\nDecember 14th— Christmas Train by David Baldacci\nJanuary 11th— Hill Women by Cassie Chambers\nFebruary 8th— The Moonlight School by Suzanne Woods Fisher\nMarch 8th— The Good Earth by Pearl Buck\n\n\nAges 18 and up. Just drop in!\nRegistration is not required to attend. However\, if you wish to reserve a copy of this book for this program\, please use the registration form below.\nA limited number of copies will be reserved for this program and made available to registered BCPL cardholders. \n\nCan’t make it in person? Contact Gayle for instructions to join via Zoom! \n  \n 
URL:https://bcplib.org/event/bbbc-2022/2021-11-01/
LOCATION:Mt. Washington Branch\, 214 N. Bardstown Road\, Mt. Washington\, KY\, 40047\, United States
CATEGORIES:Adults
ORGANIZER;CN="Gayle":MAILTO:gayle@bcplib.org
GEO:38.0492119;-85.5430434
X-APPLE-STRUCTURED-LOCATION;VALUE=URI;X-ADDRESS=Mt. Washington Branch 214 N. Bardstown Road Mt. Washington KY 40047 United States;X-APPLE-RADIUS=500;X-TITLE=214 N. Bardstown Road:geo:-85.5430434,38.0492119
END:VEVENT
END:VCALENDAR