BEGIN:VCALENDAR
VERSION:2.0
PRODID:-//Bullitt County Public Library - ECPv5.16.4//NONSGML v1.0//EN
CALSCALE:GREGORIAN
METHOD:PUBLISH
X-WR-CALNAME:Bullitt County Public Library
X-ORIGINAL-URL:https://bcplib.org
X-WR-CALDESC:Events for Bullitt County Public Library
BEGIN:VTIMEZONE
TZID:America/Kentucky/Louisville
BEGIN:DAYLIGHT
TZOFFSETFROM:-0500
TZOFFSETTO:-0400
TZNAME:EDT
DTSTART:20210314T070000
END:DAYLIGHT
BEGIN:STANDARD
TZOFFSETFROM:-0400
TZOFFSETTO:-0500
TZNAME:EST
DTSTART:20211107T060000
END:STANDARD
END:VTIMEZONE
BEGIN:VEVENT
DTSTART;TZID=America/Kentucky/Louisville:20210209T120000
DTEND;TZID=America/Kentucky/Louisville:20210209T133000
DTSTAMP:20260423T141449
CREATED:20200820T214402Z
LAST-MODIFIED:20210602T133305Z
UID:91496-1612872000-1612877400@bcplib.org
SUMMARY:Brown Bag Book Club
DESCRIPTION:Brown Bag Book Club is going virtual! \nSo\, grab your lunch and get ready to talk books. Join us on Zoom on the 2nd Tuesday of each month to share your own reading adventures\, get recommendations\, and discuss our latest book selection. \nUPCOMING SELECTIONS: \n\nJune 8th— Before We Were Yours by Lisa Wingate\nJuly 13th— X by Sue Grafton\nAugust 10th— Still Alice by Lisa Genova\n\nAges 18 and up.\nA limited number of copies will be reserved for this program and made available to registered BCPL cardholders. \n\nYou must register to receive your invitation to our monthly Zoom meetings!\nJoin instructions will be sent to your e-mail. Questions? Call Gayle at 543-7675 ext. 2551 or e-mail gayle@bcplib.org.
URL:https://bcplib.org/event/bbbc-2020-11-10-2020-12-08-2-2021-01-12-2021-02-09/2021-02-09/
LOCATION:Zoom Meeting
CATEGORIES:Adults
ORGANIZER;CN="Gayle":MAILTO:gayle@bcplib.org
END:VEVENT
END:VCALENDAR