BEGIN:VCALENDAR
VERSION:2.0
PRODID:-//Bullitt County Public Library - ECPv5.16.4//NONSGML v1.0//EN
CALSCALE:GREGORIAN
METHOD:PUBLISH
X-WR-CALNAME:Bullitt County Public Library
X-ORIGINAL-URL:https://bcplib.org
X-WR-CALDESC:Events for Bullitt County Public Library
BEGIN:VTIMEZONE
TZID:America/Kentucky/Louisville
BEGIN:DAYLIGHT
TZOFFSETFROM:-0500
TZOFFSETTO:-0400
TZNAME:EDT
DTSTART:20220313T070000
END:DAYLIGHT
BEGIN:STANDARD
TZOFFSETFROM:-0400
TZOFFSETTO:-0500
TZNAME:EST
DTSTART:20221106T060000
END:STANDARD
END:VTIMEZONE
BEGIN:VEVENT
DTSTART;TZID=America/Kentucky/Louisville:20220802T180000
DTEND;TZID=America/Kentucky/Louisville:20220802T190000
DTSTAMP:20260421T210815
CREATED:20220712T140009Z
LAST-MODIFIED:20220712T140009Z
UID:103076-1659463200-1659466800@bcplib.org
SUMMARY:Back to School Stress Free
DESCRIPTION:Start school stress free…\n \nPut a spin on this school year and make your own back-to-school stress relief kit. Join us to create a personalized kit complete with a fidget spinner\, stress ball\, and sugar scrub! \nFor ages 10 to 18. Just drop in!\nSeating and supplies will be available on a first-come\, first-served basis. Questions? Call Claire at 543-7675 ext. 2553 or e-mail claire@bcplib.org.
URL:https://bcplib.org/event/back-to-school-stress-free/
LOCATION:Hillview Branch\, 155 Terry Boulevard\, Hillview\, KY\, 40229\, United States
CATEGORIES:Teens,Tweens
ORGANIZER;CN="Claire":MAILTO:claire@bcplib.org
GEO:38.077247;-85.688966
X-APPLE-STRUCTURED-LOCATION;VALUE=URI;X-ADDRESS=Hillview Branch 155 Terry Boulevard Hillview KY 40229 United States;X-APPLE-RADIUS=500;X-TITLE=155 Terry Boulevard:geo:-85.688966,38.077247
END:VEVENT
END:VCALENDAR