BEGIN:VCALENDAR
VERSION:2.0
PRODID:-//Bullitt County Public Library - ECPv5.16.4//NONSGML v1.0//EN
CALSCALE:GREGORIAN
METHOD:PUBLISH
X-WR-CALNAME:Bullitt County Public Library
X-ORIGINAL-URL:https://bcplib.org
X-WR-CALDESC:Events for Bullitt County Public Library
BEGIN:VTIMEZONE
TZID:America/Kentucky/Louisville
BEGIN:DAYLIGHT
TZOFFSETFROM:-0500
TZOFFSETTO:-0400
TZNAME:EDT
DTSTART:20180311T070000
END:DAYLIGHT
BEGIN:STANDARD
TZOFFSETFROM:-0400
TZOFFSETTO:-0500
TZNAME:EST
DTSTART:20181104T060000
END:STANDARD
END:VTIMEZONE
BEGIN:VEVENT
DTSTART;TZID=America/Kentucky/Louisville:20180802T180000
DTEND;TZID=America/Kentucky/Louisville:20180802T193000
DTSTAMP:20260425T115208
CREATED:20180628T130043Z
LAST-MODIFIED:20180801T195910Z
UID:30925-1533232800-1533238200@bcplib.org
SUMMARY:Back to School Bingo
DESCRIPTION:Join us for a family-friendly game night where a winning card earns you back-to-school supplies! \nEvery winning card will get to pick from a stash of back-to-school supplies\, including pens\, pencils\, crayons\, markers\, color pencils\, notebooks\, and many more! \nFor ages 5–11. (But family members can play too!)\nRegistration is required for a select number of reserved seats. Additional seating will be available on a first-come\, first-served basis. Questions? E-mail angel@bcplib.org. \n\nWe’re sorry\, but guaranteed registration for this event is now closed.
URL:https://bcplib.org/event/back-to-school-bingo-2/
LOCATION:Mt. Washington Branch\, 214 N. Bardstown Road\, Mt. Washington\, KY\, 40047\, United States
CATEGORIES:Kids,Family
ORGANIZER;CN="Angel":MAILTO:angel@bcplib.org
GEO:38.0492119;-85.5430434
X-APPLE-STRUCTURED-LOCATION;VALUE=URI;X-ADDRESS=Mt. Washington Branch 214 N. Bardstown Road Mt. Washington KY 40047 United States;X-APPLE-RADIUS=500;X-TITLE=214 N. Bardstown Road:geo:-85.5430434,38.0492119
END:VEVENT
END:VCALENDAR