BEGIN:VCALENDAR
VERSION:2.0
PRODID:-//Bullitt County Public Library - ECPv5.16.4//NONSGML v1.0//EN
CALSCALE:GREGORIAN
METHOD:PUBLISH
X-WR-CALNAME:Bullitt County Public Library
X-ORIGINAL-URL:https://bcplib.org
X-WR-CALDESC:Events for Bullitt County Public Library
BEGIN:VTIMEZONE
TZID:America/Kentucky/Louisville
BEGIN:DAYLIGHT
TZOFFSETFROM:-0500
TZOFFSETTO:-0400
TZNAME:EDT
DTSTART:20220313T070000
END:DAYLIGHT
BEGIN:STANDARD
TZOFFSETFROM:-0400
TZOFFSETTO:-0500
TZNAME:EST
DTSTART:20221106T060000
END:STANDARD
END:VTIMEZONE
BEGIN:VEVENT
DTSTART;TZID=America/Kentucky/Louisville:20220201T180000
DTEND;TZID=America/Kentucky/Louisville:20220201T190000
DTSTAMP:20260422T070945
CREATED:20211215T164951Z
LAST-MODIFIED:20220119T144135Z
UID:98912-1643738400-1643742000@bcplib.org
SUMMARY:Intro to Sign Language
DESCRIPTION:Let your fingers do the talking… \nExplore the linguistic art of American Sign Language (ASL) in an interactive course for beginners with Karen Davenport. During this 8-week progressive series\, enjoy practicing basic skills and learning new vocabulary at each Tuesday session. Classes and topics will evolve with the participants’ rate of learning. \nTopics may include: \n\nThe alphabet\nEveryday expressions\nSigning and deafness\nFamily\nHealth\n\nFEBRUARY 1st–MARCH 22nd\nTuesday Evenings\, 6:00–7:00 PM\n \nABOUT THE PRESENTER\nKaren Davenport\, previously an interpreter for the deaf\, now enjoys teaching American Sign Language. Karen took sign-language classes at Boyce Bible College in the early 90s and has since enjoyed teaching her passion to others. \nPsst… For the most successful learning experience\, participants are encouraged to attend all sessions. \nFor ages 18 and up. \nRegistration is required for guaranteed seating. Additional seating will be available on a first-come\, first-served basis. Questions? E-mail mike@bcplib.org. \n\nWowza! Registration for this series is now closed. We had a flood of registrations for this event on Tuesday\, January 18th and have reached maximum capacity.
URL:https://bcplib.org/event/asl/2022-02-01/
LOCATION:Hillview Branch\, 155 Terry Boulevard\, Hillview\, KY\, 40229\, United States
CATEGORIES:Adults
ORGANIZER;CN="Mike":MAILTO:mike@bcplib.org
GEO:38.077247;-85.688966
X-APPLE-STRUCTURED-LOCATION;VALUE=URI;X-ADDRESS=Hillview Branch 155 Terry Boulevard Hillview KY 40229 United States;X-APPLE-RADIUS=500;X-TITLE=155 Terry Boulevard:geo:-85.688966,38.077247
END:VEVENT
END:VCALENDAR