BEGIN:VCALENDAR
VERSION:2.0
PRODID:-//Bullitt County Public Library - ECPv5.16.4//NONSGML v1.0//EN
CALSCALE:GREGORIAN
METHOD:PUBLISH
X-WR-CALNAME:Bullitt County Public Library
X-ORIGINAL-URL:https://bcplib.org
X-WR-CALDESC:Events for Bullitt County Public Library
BEGIN:VTIMEZONE
TZID:America/Kentucky/Louisville
BEGIN:DAYLIGHT
TZOFFSETFROM:-0500
TZOFFSETTO:-0400
TZNAME:EDT
DTSTART:20190310T070000
END:DAYLIGHT
BEGIN:STANDARD
TZOFFSETFROM:-0400
TZOFFSETTO:-0500
TZNAME:EST
DTSTART:20191103T060000
END:STANDARD
END:VTIMEZONE
BEGIN:VEVENT
DTSTART;TZID=America/Kentucky/Louisville:20190103T110000
DTEND;TZID=America/Kentucky/Louisville:20190103T120000
DTSTAMP:20260421T173135
CREATED:20181210T181812Z
LAST-MODIFIED:20181210T181812Z
UID:42865-1546513200-1546516800@bcplib.org
SUMMARY:Animals of the Arctic with Silly Safaris
DESCRIPTION:The animals are taking a break from the arctic cold to come to BCPL! \nJoin us for an amazing blend of fact and fun as Silly Safaris brings in a few arctic animal friends for a meet and greet! The funologists of Silly Safaris will introduce you to a variety of animals that can live in the super-cold weather of the Arctic Circle\, providing an entertaining and educational experience that is fun for the whole family! \nABOUT SILLY SAFARIS\nSilly Safaris’s mission is to create positive human and animal interactions that inspire responsible pet ownership and wild animal conservation. Silly Safaris\, Inc. provides over 3\,000 conservation inspiring live animal shows every year throughout the United States. \nFor all ages. Just drop in!\nSpace will be available on a first-come\, first-served basis. Questions? Call Brandy at 543-7675 ext. 2555 or e-mail brandy@bcplib.org.
URL:https://bcplib.org/event/animals-of-the-arctic-with-silly-safaris-hl/
LOCATION:Hillview Branch\, 155 Terry Boulevard\, Hillview\, KY\, 40229\, United States
CATEGORIES:Adults,Teens,Tweens,Kids,Family
GEO:38.077247;-85.688966
X-APPLE-STRUCTURED-LOCATION;VALUE=URI;X-ADDRESS=Hillview Branch 155 Terry Boulevard Hillview KY 40229 United States;X-APPLE-RADIUS=500;X-TITLE=155 Terry Boulevard:geo:-85.688966,38.077247
END:VEVENT
END:VCALENDAR