BEGIN:VCALENDAR
VERSION:2.0
PRODID:-//Bullitt County Public Library - ECPv5.16.4//NONSGML v1.0//EN
CALSCALE:GREGORIAN
METHOD:PUBLISH
X-WR-CALNAME:Bullitt County Public Library
X-ORIGINAL-URL:https://bcplib.org
X-WR-CALDESC:Events for Bullitt County Public Library
BEGIN:VTIMEZONE
TZID:America/Kentucky/Louisville
BEGIN:DAYLIGHT
TZOFFSETFROM:-0500
TZOFFSETTO:-0400
TZNAME:EDT
DTSTART:20210314T070000
END:DAYLIGHT
BEGIN:STANDARD
TZOFFSETFROM:-0400
TZOFFSETTO:-0500
TZNAME:EST
DTSTART:20211107T060000
END:STANDARD
END:VTIMEZONE
BEGIN:VEVENT
DTSTART;TZID=America/Kentucky/Louisville:20211206T180000
DTEND;TZID=America/Kentucky/Louisville:20211206T193000
DTSTAMP:20260422T165907
CREATED:20211026T195344Z
LAST-MODIFIED:20211026T195507Z
UID:97762-1638813600-1638819000@bcplib.org
SUMMARY:An Evening with Santa
DESCRIPTION:Ho\, Ho\, Ho… \nJoin us for a festive evening of stories\, crafts\, and a special visitor all the way from the North Pole! Bring the kiddos in for photo opportunities and a quick chat with the big man himself\, Santa Claus. \nPsst… We will follow current CDC guidelines. Plexiglass will be provided if necessary to visit with Santa\, and masks are strongly encouraged to be worn by all patrons. \nFor children of all ages. Just drop in!\nSanta visits and craft supplies will be available on a first come\, first-served basis. Questions? Call Jillian at 543-7675 ext. 2557 or e-mail jillian@bcplib.org.
URL:https://bcplib.org/event/an-evening-with-santa/
LOCATION:Lebanon Junction Branch\, 11382 S. Preston Highway\, Lebanon Junction\, KY\, 40150\, United States
CATEGORIES:Tweens,Kids
ORGANIZER;CN="Jillian":MAILTO:jillian@bcplib.org
GEO:37.8417678;-85.7287508
X-APPLE-STRUCTURED-LOCATION;VALUE=URI;X-ADDRESS=Lebanon Junction Branch 11382 S. Preston Highway Lebanon Junction KY 40150 United States;X-APPLE-RADIUS=500;X-TITLE=11382 S. Preston Highway:geo:-85.7287508,37.8417678
END:VEVENT
END:VCALENDAR